BEGIN:VCALENDAR
VERSION:2.0
PRODID:-//TotalExpo.ru v1.0//EN
BEGIN:VEVENT
DTSTAMP:20260609T120000
DTSTART:20260609T070000Z
DTEND:20260610T140000Z
SUMMARY:Локальное радио: инновации и перспективы 2026 (Сочи, Россия)
DESCRIPTION:Крупнейшая в индустрии радиовещания региональная конференция. В течение работы конференции профессионалы медиа обсудят вызовы и открывающиеся возможности перед региональным радиовещанием, а также возможные стратегии развития и эффективные модели работы.
LOCATION:Отель Pullman Сочи Центр (Россия, Сочи)
END:VEVENT
END:VCALENDAR