BEGIN:VCALENDAR
VERSION:2.0
PRODID:-//TotalExpo.ru v1.0//EN
BEGIN:VEVENT
DTSTAMP:20260528T120000
DTSTART:20260528T070000Z
DTEND:20260531T140000Z
SUMMARY:Ремеслофф 2026 (Екатеринбург, Россия)
DESCRIPTION:Уникальная ярмарка рукоделия, где представлены изделия ручной работы, созданные с любовью и вдохновением. Здесь можно найти всё, что только может представить ваша фантазия: от изящных украшений и аксессуаров до предметов интерьера, одежды и даже игрушек.
LOCATION:Уральский центр развития дизайна (Россия, Екатеринбург)
END:VEVENT
END:VCALENDAR