BEGIN:VCALENDAR
VERSION:2.0
PRODID:-//TotalExpo.ru v1.0//EN
BEGIN:VEVENT
DTSTAMP:20260922T120000
DTSTART:20260922T070000Z
DTEND:20260923T140000Z
SUMMARY:Золото России и СНГ 2026 (Москва, Россия)
DESCRIPTION:Профессиональная международная площадка, которая собирает руководителей ведущих предприятий золотодобывающей промышленности России и СНГ. Мероприятие посвящено обмену опытом ключевых компаний золотодобывающей индустрии, обсуждению крупнейших инвестиционных проектов строительства и модернизации предприятий и объектов инфраструктуры, освоения новых месторождений, а также возможностей повышения эффективности действующих предприятий отрасли.
LOCATION:Балчуг Кемпински (Россия, Москва)
END:VEVENT
END:VCALENDAR