BEGIN:VCALENDAR
VERSION:2.0
PRODID:-//TotalExpo.ru v1.0//EN
BEGIN:VEVENT
DTSTAMP:20270519T120000
DTSTART:20270519T070000Z
DTEND:20270520T140000Z
SUMMARY:ГРАНИЦА 2027 (Москва, Россия)
DESCRIPTION:Выставка проводится с целью демонстрации современной продукции в области создания специальных технических средств и вооружения, используемых для охраны Государственной границы, обеспечения пограничного, таможенного, санитарно-эпидемиологического и фитосанитарного контроля.
LOCATION:ВДНХ (Выставка достижений народного хозяйства) (Россия, Москва)
END:VEVENT
END:VCALENDAR