BEGIN:VCALENDAR
VERSION:2.0
PRODID:-//TotalExpo.ru v1.0//EN
BEGIN:VEVENT
DTSTAMP:20260907T120000
DTSTART:20260907T070000Z
DTEND:20260909T140000Z
SUMMARY:GreenExpo 2026 (Москва, Россия)
DESCRIPTION:Площадка для встречи производителей и потребителей ECO товаров и услуг: разработчиков, производителей, продавцов, специалистов и осознанных потребителей — всех , кто стремится улучшить экологию среды обитания и ответственно относится к здоровью и окружающей среде.
LOCATION:МВЦ Крокус Экспо (Россия, Москва)
END:VEVENT
END:VCALENDAR