BEGIN:VCALENDAR
VERSION:2.0
PRODID:-//TotalExpo.ru v1.0//EN
BEGIN:VEVENT
DTSTAMP:20260420T120000
DTSTART:20260420T070000Z
DTEND:20260424T140000Z
SUMMARY:LOGFORUM Asia 2026 (Алма-Ата, Казахстан)
DESCRIPTION:На LOGFORUM крупнейшие компании-производители и ритейлеры СНГ обсуждают отраслевые тренды, а также обмениваются опытом и планами по развитию логистики на текущий год. <br/>
Каждый год в форуме принимают участие 400+ профессионалов в области логистики и управления цепями поставок. Более 30 спикеров представляют доклады, которые можно эксклюзивно послушать только на этой площадке.
LOCATION:The Ritz-Carlton, Almaty (Казахстан, Алма-Ата)
END:VEVENT
END:VCALENDAR