BEGIN:VCALENDAR
VERSION:2.0
PRODID:-//TotalExpo.ru v1.0//EN
BEGIN:VEVENT
DTSTAMP:20250624T120000
DTSTART:20250624T070000Z
DTEND:20250625T140000Z
SUMMARY:FINTEX SUMMIT 2025 (Баку, Азербайджан)
DESCRIPTION:Мероприятие посвящено финансовым технологиям, цифровизации, платежным экосистемам. ФинТех Саммит - единственное финансово-банковское мероприятие в Азербайджане, в котором принимают участие все руководители банков. Саммит собирает регулирующие органы, банки, финтех, ассоциации, международные финансовые организации, местные посольства, академические круги, руководящих представителей известных компаний, лиц, принимающих решения, и инфлюенсеров.
LOCATION:Baku Marriott Hotel Boulevard (Азербайджан, Баку)
END:VEVENT
END:VCALENDAR