BEGIN:VCALENDAR
VERSION:2.0
PRODID:-//TotalExpo.ru v1.0//EN
BEGIN:VEVENT
DTSTAMP:20260623T120000
DTSTART:20260623T070000Z
DTEND:20260625T140000Z
SUMMARY:LeShow / Ле Шоу 2026 (Москва, Россия)
DESCRIPTION:На выставке будут представлены современные изделия из кожи и меха разнообразных стилей и направлений. <br/> Специальная программа для оптовых закупщиков.
LOCATION:Главная сцена (Main Stage) (Россия, Москва)
END:VEVENT
END:VCALENDAR