BEGIN:VCALENDAR
VERSION:2.0
PRODID:-//TotalExpo.ru v1.0//EN
BEGIN:VEVENT
DTSTAMP:20260604T120000
DTSTART:20260604T070000Z
DTEND:20260607T140000Z
SUMMARY:Клинок в Сибири 2026 (Новосибирск, Россия)
DESCRIPTION:Выставка ножей, клинковых изделий, холодного оружия. Лучшие производители из Москвы, Нижнего Новгорода, Златоуста, Тулы, Ижевска, Кизляра, Углича представят свою продукцию. Мастера со всей России продемонстрируют высокохудожественные клинковые изделия. 
LOCATION:Государственная публичная научно-техническая библиотека СО РАН (Россия, Новосибирск)
END:VEVENT
END:VCALENDAR