BEGIN:VCALENDAR
VERSION:2.0
PRODID:-//TotalExpo.ru v1.0//EN
BEGIN:VEVENT
DTSTAMP:20250605T120000
DTSTART:20250605T070000Z
DTEND:20250608T140000Z
SUMMARY:Айда играть 2025 (Уфа, Россия)
DESCRIPTION:Форум объединит представителей органов государственной власти, экспертного сообщества, родительской общественности, ведущих российских производителей детской продукции.<br/>Это масштабное событие предоставит возможность производителям и поставщикам игр, игрушек, товаров для творчества, товаров для новорожденных и малышей, визуального анимационного контента для детей, а также представителям оптово-розничной торговли, дистрибьютерам, мастерам-ремесленникам со всей России обмениваться опытом и находить новые возможности для развития индустрии детских товаров. 
LOCATION:Советская площадь (Россия, Уфа)
END:VEVENT
END:VCALENDAR