BEGIN:VCALENDAR
VERSION:2.0
PRODID:-//TotalExpo.ru v1.0//EN
BEGIN:VEVENT
DTSTAMP:20261104T120000
DTSTART:20261104T070000Z
DTEND:20261105T140000Z
SUMMARY:THE TRENDS 2026 (Москва, Россия)
DESCRIPTION:Международный форум о новейших технологиях. Участники - визионеры, инноваторы, лидеры мнений, предприниматели, основатели и топ-менеджмент IT-компаний, представители СМИ и креативной индустрии - обсудят технологические тренды десятилетия.
LOCATION:Тимирязев Центр (Россия, Москва)
END:VEVENT
END:VCALENDAR