BEGIN:VCALENDAR
VERSION:2.0
PRODID:-//TotalExpo.ru v1.0//EN
BEGIN:VEVENT
DTSTAMP:20260618T120000
DTSTART:20260618T070000Z
DTEND:20260620T140000Z
SUMMARY:Отпуск Expo&amp;Fest 2026 (Краснодар, Россия)
DESCRIPTION:Международная выставка и фестиваль активного отдыха, автотуризма и глэмпинг-индустрии. Миссия выставки – продвижение внутреннего туризма за счет развития кемпинг-индустрии, популяризации караванинга, а также создания комфортных и безопасных условий для самостоятельных и семейных туристов.
LOCATION:Экспоград Юг (Россия, Краснодар)
END:VEVENT
END:VCALENDAR