BEGIN:VCALENDAR
VERSION:2.0
PRODID:-//TotalExpo.ru v1.0//EN
BEGIN:VEVENT
DTSTAMP:20251114T120000
DTSTART:20251114T070000Z
DTEND:20251116T140000Z
SUMMARY:САКВОЯЖ 2025 (Москва, Россия)
DESCRIPTION:Выставка «САКВОЯЖ», словно тур по всему свету, знакомство с работами мастеров из разных стран и континентов, приобщение к культуре и искусству, исследование нового и непознанного. Художники и дизайнеры, авторы и профессионалы своего дела соберутся вместе на одной площадке, чтобы порадовать гостей удивительными подарками, редкостями и диковинами. Живопись и керамика, графика и куклы, коллекции антиквариата и авторский текстиль - все это будет представлено в экспозиции.
LOCATION:Амбер Плаза, Деловой центр (Россия, Москва)
END:VEVENT
END:VCALENDAR