BEGIN:VCALENDAR
VERSION:2.0
PRODID:-//TotalExpo.ru v1.0//EN
BEGIN:VEVENT
DTSTAMP:20260528T120000
DTSTART:20260528T070000Z
DTEND:20260530T140000Z
SUMMARY:COSMODERM EXPO 2026 (Алма-Ата, Казахстан)
DESCRIPTION:Ключевая платформа для демонстрации инновационных продуктов и технологий, способствующая развитию косметологической индустрии в Центральной Азии. На выставке ожидается более 3 000 профессиональных посетителей из Казахстана, Узбекистана, Кыргызстана и других стран региона: косметологи, дерматологи, представители клиник, салонов красоты и дистрибьюторов.
LOCATION:Атакент, КЦДС (Казахстан, Алма-Ата)
END:VEVENT
END:VCALENDAR