BEGIN:VCALENDAR
VERSION:2.0
PRODID:-//TotalExpo.ru v1.0//EN
BEGIN:VEVENT
DTSTAMP:20270127T120000
DTSTART:20270127T070000Z
DTEND:20270129T140000Z
SUMMARY:Pool M &amp; Термы Экспо 2027 (Москва, Россия)
DESCRIPTION:Выставка и конференция по Бассейнам, Аквапаркам и Термальным комлексам в России. Основой выставки станут российские производители оборудования и материалов для бассейнов, а также крупные иностранные компании и импортеры. В программе: одна из самых больших в России профильных конференций по плавательным бассейнам, презентации и мастер классы от лучших специалистов отрасли. 
LOCATION:Тимирязев Центр (Россия, Москва)
END:VEVENT
END:VCALENDAR