BEGIN:VCALENDAR
VERSION:2.0
PRODID:-//TotalExpo.ru v1.0//EN
BEGIN:VEVENT
DTSTAMP:20261101T120000
DTSTART:20261101T070000Z
DTEND:20261130T140000Z
SUMMARY:Мир возможностей 2026 (Дубай, ОАЭ)
DESCRIPTION:Крупнейшее ежегодное деловое мероприятие, объединяющее лидеров российского и международного бизнеса для сотрудничества в новых глобальных условиях. Форум позволит собрать в одном месте представителей различных отраслей, которые сотрудничают с приоритетом на развитие международных отношений и обмен опытом между Россией и странами MENA.
LOCATION:The Ritz-Carlton, Dubai (JBR) (ОАЭ, Дубай)
END:VEVENT
END:VCALENDAR