BEGIN:VCALENDAR
VERSION:2.0
PRODID:-//TotalExpo.ru v1.0//EN
BEGIN:VEVENT
DTSTAMP:20260211T120000
DTSTART:20260211T070000Z
DTEND:20260213T140000Z
SUMMARY:Конференция Ассоциации производителей посадочного материала 2026 (Санкт-Петербург, Россия)
DESCRIPTION:Ежегодная конференция Ассоциации производителей посадочного материала. Участников ждут доклады ведущих экспертов, мастер-классы, круглые столы, бизнес-знакомства. На конференции будет работать крупнейшая профессиональная выставка, на которой будет представлен весь спектр продукции российских питомников, производителей субстратов, технологической тары, пестицидов и профессиональной техники.
LOCATION:КВЦ Экспофорум (Россия, Санкт-Петербург)
END:VEVENT
END:VCALENDAR