BEGIN:VCALENDAR
VERSION:2.0
PRODID:-//TotalExpo.ru v1.0//EN
BEGIN:VEVENT
DTSTAMP:20261126T120000
DTSTART:20261126T070000Z
DTEND:20261127T140000Z
SUMMARY:ПИЩЕВКА3D: Foodigital 2026 (Санкт-Петербург, Россия)
DESCRIPTION:Мероприятие посвящено цифровизации в пищевой промышленности. Участники конференции – владельцы и топ-менеджеры пищевых предприятий всех отраслей, IT-подрядчики, аналитики и финансисты. 
LOCATION:Университет ИТМО (Россия, Санкт-Петербург)
END:VEVENT
END:VCALENDAR