BEGIN:VCALENDAR
VERSION:2.0
PRODID:-//TotalExpo.ru v1.0//EN
BEGIN:VEVENT
DTSTAMP:20251118T120000
DTSTART:20251118T070000Z
DTEND:20251120T140000Z
SUMMARY:SOC-Форум 2025 (Москва, Россия)
DESCRIPTION:Одна из крупнейших специализированных конференций в области информационной безопасности и единственное в России мероприятие, полностью посвящённое вопросам создания и эксплуатации центров мониторинга, противодействию кибератакам, реагированию и расследованию компьютерных инцидентов.
LOCATION:Тимирязев Центр (Россия, Москва)
END:VEVENT
END:VCALENDAR