BEGIN:VCALENDAR
VERSION:2.0
PRODID:-//TotalExpo.ru v1.0//EN
BEGIN:VEVENT
DTSTAMP:20260327T120000
DTSTART:20260327T070000Z
DTEND:20260327T140000Z
SUMMARY:GLOBAL TECH FORUM 2026 (Москва, Россия)
DESCRIPTION:На одной площадке соберутся лидеры среди поставщиков IT-решений для бизнеса, вы сможете за один день познакомиться с различными ключевыми корпоративными технологическими решениями.<br/>В рамках конференции ведущие спикеры в области цифровых технологий поделятся уникальным опытом цифровизации бизнес-процессов. Вы узнаете о ключевых стратегиях, которые помогут вам добиться успеха в цифровых технологиях, изучите важнейшие технологии и подходы, необходимые для улучшения взаимодействия с клиентами и развития цифровой культуры вашей организации.
LOCATION:Ломоносов, ИНТЦ (Россия, Москва)
END:VEVENT
END:VCALENDAR