BEGIN:VCALENDAR
VERSION:2.0
PRODID:-//TotalExpo.ru v1.0//EN
BEGIN:VEVENT
DTSTAMP:20260909T120000
DTSTART:20260909T070000Z
DTEND:20260912T140000Z
SUMMARY:Репродуктивные технологии сегодня и завтра 2026 (Москва, Россия)
DESCRIPTION:Ежегодная конференция Российской Ассоциации Репродукции Человека. В научных сессиях примут участие ведущие отечественные и зарубежные специалисты в области репродукции человека.<br/>Во время конференции будет проходить выставка с участием фирм, поставляющих оборудование, препараты и реагенты, используемые в репродуктивной медицине. 
LOCATION:Ломоносов, ИНТЦ (Россия, Москва)
END:VEVENT
END:VCALENDAR