BEGIN:VCALENDAR
VERSION:2.0
PRODID:-//TotalExpo.ru v1.0//EN
BEGIN:VEVENT
DTSTAMP:20250820T120000
DTSTART:20250820T070000Z
DTEND:20250821T140000Z
SUMMARY:Дни Ритейла в Уфе 2025 (Уфа, Россия)
DESCRIPTION:Форум бизнеса и власти для профессионалов и экспертов российского рынка, направленный на развитие сферы розничной торговли, проводимый в рамках ежегодного международного форума «Неделя Российского Ритейла». Мероприятие соберет федеральные и региональные торговые сети, отельеров и рестораторов, поставщиков решений для ритейла, производителей и дистрибьюторов потребительских товаров, отраслевые ассоциации и союзы.
LOCATION:Конгресс-Холл Торатау (Россия, Уфа)
END:VEVENT
END:VCALENDAR