BEGIN:VCALENDAR
VERSION:2.0
PRODID:-//TotalExpo.ru v1.0//EN
BEGIN:VEVENT
DTSTAMP:20261110T120000
DTSTART:20261110T070000Z
DTEND:20261113T140000Z
SUMMARY:UtiliCon 2026 (Москва, Россия)
DESCRIPTION:Международная выставка жилищно-коммунального хозяйства и строительного комплекса. Консолидирует лучшие практики и инновации совокупности отраслей экономик России, обеспечивающих работу инженерной инфраструктуры, строительства, реконструкции и реновации.
LOCATION:МВЦ Крокус Экспо (Россия, Москва)
END:VEVENT
END:VCALENDAR