BEGIN:VCALENDAR
VERSION:2.0
PRODID:-//TotalExpo.ru v1.0//EN
BEGIN:VEVENT
DTSTAMP:20260707T120000
DTSTART:20260707T070000Z
DTEND:20260708T140000Z
SUMMARY:Белая конфа 2026 (Санкт-Петербург, Россия)
DESCRIPTION:Конференция про онлайн-образование без обмана и манипуляций. Её цель — собрать тех, кому идея «белого образования» небезразлична. Кто хочет строить свой бизнес в образовании, долгосрочно и системно. Кто хочет быть в тренде. 
LOCATION:Airportcity Plaza (Россия, Санкт-Петербург)
END:VEVENT
END:VCALENDAR