BEGIN:VCALENDAR
VERSION:2.0
PRODID:-//TotalExpo.ru v1.0//EN
BEGIN:VEVENT
DTSTAMP:20261025T120000
DTSTART:20261025T070000Z
DTEND:20261025T140000Z
SUMMARY:Global Vision Summit 2026 (Москва, Россия)
DESCRIPTION:Форум объединяет ведущих экспертов, инвесторов, институты развития, корпорации и предпринимателей в сфере WEB3 с целью качественного развития глобального технологического сообщества, экспертизы проектов и направления в них финансовых потоков.
LOCATION:Центр Событий РБК (Россия, Москва)
END:VEVENT
END:VCALENDAR