BEGIN:VCALENDAR
VERSION:2.0
PRODID:-//TotalExpo.ru v1.0//EN
BEGIN:VEVENT
DTSTAMP:20260905T120000
DTSTART:20260905T070000Z
DTEND:20260908T140000Z
SUMMARY:Shanghai International Furniture Machinery &amp; Woodworking Machinery Fair / WMF 2026 (Шанхай, Китай)
DESCRIPTION:Международная выставка оборудования для деревообработки и производства мебели. 
LOCATION:National Exhibition and Convention Center (NEСC) (Китай, Шанхай)
END:VEVENT
END:VCALENDAR