BEGIN:VCALENDAR
VERSION:2.0
PRODID:-//TotalExpo.ru v1.0//EN
BEGIN:VEVENT
DTSTAMP:20260922T120000
DTSTART:20260922T070000Z
DTEND:20260925T140000Z
SUMMARY:COMTRANS 2026 (Казань, Россия)
DESCRIPTION:COMTRANS - крупнейшая в России специализированная выставка коммерческого автотранспорта c 25-летней историей.
LOCATION:Казань Экспо, МВЦ (Россия, Казань)
END:VEVENT
END:VCALENDAR