BEGIN:VCALENDAR
VERSION:2.0
PRODID:-//TotalExpo.ru v1.0//EN
BEGIN:VEVENT
DTSTAMP:20261013T120000
DTSTART:20261013T070000Z
DTEND:20261015T140000Z
SUMMARY:InterHometex &amp; Design Interior 2026 (Астана, Казахстан)
DESCRIPTION:Выставка интерьерных тканей, домашнего текстиля и дизайна интерьера.
LOCATION:Экспо, МВЦ (Казахстан, Астана)
END:VEVENT
END:VCALENDAR