BEGIN:VCALENDAR
VERSION:2.0
PRODID:-//TotalExpo.ru v1.0//EN
BEGIN:VEVENT
DTSTAMP:20260916T120000
DTSTART:20260916T070000Z
DTEND:20260918T140000Z
SUMMARY:Housekeepingexpo Kazakhstan 2026 (Астана, Казахстан)
DESCRIPTION:Выставка товаров для дома.
LOCATION:Экспо, МВЦ (Казахстан, Астана)
END:VEVENT
END:VCALENDAR