BEGIN:VCALENDAR
VERSION:2.0
PRODID:-//TotalExpo.ru v1.0//EN
BEGIN:VEVENT
DTSTAMP:20260710T120000
DTSTART:20260710T070000Z
DTEND:20260712T140000Z
SUMMARY:В Сибири - ЕСТЬ! 2026 (Новосибирск, Россия)
DESCRIPTION:Первый масштабный для Новосибирского региона гастрономический фестиваль. Мероприятие включает в себя: фестивальную и деловую части, сценическую программу, взрослые и детские кулинарные соревнования.
LOCATION:Михайловская набережная (Россия, Новосибирск)
END:VEVENT
END:VCALENDAR