BEGIN:VCALENDAR
VERSION:2.0
PRODID:-//TotalExpo.ru v1.0//EN
BEGIN:VEVENT
DTSTAMP:20260626T120000
DTSTART:20260626T070000Z
DTEND:20260626T140000Z
SUMMARY:День Калужского поля 2026 (Калуга, Россия)
DESCRIPTION:В рамках Дня поля ведущие производители сельскохозяйственной техники, оборудования, семян, удобрений, средств защиты растений, а также разработчики передовых инновационных технологий в растениеводстве и животноводстве проводят семинары и демонстрационные показы своих продуктов, представляют экспозиции на выставочных площадках.
LOCATION:Калужский НИИ Сельского Хозяйства (Россия, Калуга)
END:VEVENT
END:VCALENDAR