BEGIN:VCALENDAR
VERSION:2.0
PRODID:-//TotalExpo.ru v1.0//EN
BEGIN:VEVENT
DTSTAMP:20250416T120000
DTSTART:20250416T070000Z
DTEND:20250417T140000Z
SUMMARY:First Russian Data Forum 2025 (Москва, Россия)
DESCRIPTION:Современная интерактивная площадка публичного диалога между регулирующими органами и бизнес-сообществом о планах цифрового развития России, государственной политики и роли данных в цифровой трансформации бизнеса и общества.
LOCATION:Ломоносов, ИНТЦ (Россия, Москва)
END:VEVENT
END:VCALENDAR