BEGIN:VCALENDAR
VERSION:2.0
PRODID:-//TotalExpo.ru v1.0//EN
BEGIN:VEVENT
DTSTAMP:20261112T120000
DTSTART:20261112T070000Z
DTEND:20261112T140000Z
SUMMARY:Горнодобывающая промышленность: инвестиционные проекты и меры поддержки 2026 (Москва, Россия)
DESCRIPTION:В рамках Форума крупнейшие горнодобывающие компании с участием руководителей органов федеральной власти обсудят вопросы по развитию инвестиционных инициатив бизнеса и снятию регуляторных барьеров в отрасли. 
LOCATION:Центр Событий РБК (Россия, Москва)
END:VEVENT
END:VCALENDAR