BEGIN:VCALENDAR
VERSION:2.0
PRODID:-//TotalExpo.ru v1.0//EN
BEGIN:VEVENT
DTSTAMP:20260422T120000
DTSTART:20260422T070000Z
DTEND:20260422T140000Z
SUMMARY:Digital Learning 2026 (Москва, Россия)
DESCRIPTION:Ежегодная практико-ориентированная конференция сообщества Digital Learning о новых технологиях и подходах в онлайн и гибридном обучении.
LOCATION:АЭРОСТАР, бизнес-отель (Россия, Москва)
END:VEVENT
END:VCALENDAR