BEGIN:VCALENDAR
VERSION:2.0
PRODID:-//TotalExpo.ru v1.0//EN
BEGIN:VEVENT
DTSTAMP:20260528T120000
DTSTART:20260528T070000Z
DTEND:20260529T140000Z
SUMMARY:Всероссийский симпозиум виноделов 2026 (Новороссийск, Россия)
DESCRIPTION:Симпозиум соберет на своей площадке не только виноделов и виноградарей, но и представителей науки, поставщиков технологий и оборудования. В ходе двухдневного мероприятия планируется проведение различных семинаров и профессиональных дегустаций. 
LOCATION:Hilton Garden Inn Novorossiysk (Россия, Новороссийск)
END:VEVENT
END:VCALENDAR