BEGIN:VCALENDAR
VERSION:2.0
PRODID:-//TotalExpo.ru v1.0//EN
BEGIN:VEVENT
DTSTAMP:20260625T120000
DTSTART:20260625T070000Z
DTEND:20260626T140000Z
SUMMARY:Всероссийский день поля на виноградниках 2026 (Краснодар, Россия)
DESCRIPTION:Это единственное мероприятие в России, полностью посвященное винограду и его выращиванию.  Традиционно  все виноградари России  встречаются в начале сезона на Дне поля. Формат мероприятия совмещает в себе   выставку с демонстрацией техники в работе и проведением полевых опытов, на подготовку которых уходит несколько месяцев работы совместно с виноградарями хозяйства.<br/>На выставке можно подобрать саженцы, сельхозтехнику, системы орошения, удобрения и средства защиты растений.  Но самое главное, большую часть техники можно посмотреть в действии.
LOCATION:Поместье Голубицкое (Россия, Краснодар)
END:VEVENT
END:VCALENDAR