BEGIN:VCALENDAR
VERSION:2.0
PRODID:-//TotalExpo.ru v1.0//EN
BEGIN:VEVENT
DTSTAMP:20261006T120000
DTSTART:20261006T070000Z
DTEND:20261009T140000Z
SUMMARY:Национальный Металлообрабатывающий Форум / NMF 2026 (Москва, Россия)
DESCRIPTION:Место встречи для специалистов в сфере машиностроения, металлообрабатывающей промышленности, представителей государственного сектора и профильных бизнес-сообществ. В экспозиционной части свою продукцию и услуги представят российские и зарубежные производители и поставщики металлообрабатывающего оборудования, инструмента, программного обеспечения, средств измерения и комплектующих.
LOCATION:МВЦ Крокус Экспо (Россия, Москва)
END:VEVENT
END:VCALENDAR