BEGIN:VCALENDAR
VERSION:2.0
PRODID:-//TotalExpo.ru v1.0//EN
BEGIN:VEVENT
DTSTAMP:20260127T120000
DTSTART:20260127T070000Z
DTEND:20260128T140000Z
SUMMARY:Евразийский фармацевтический форум 2026 (Алма-Ата, Казахстан)
DESCRIPTION:Форум дает возможность встретиться ведущими игроками фармрынка — регуляторами, международными и локальными фармпроизводителями, дистрибьюторами и аптечными сетями — обсудить актуальные вопросы, стоящие перед отраслью сегодня и прогнозировать дальнейшее развитие. 
LOCATION:Swissotel Wellness Resort Alatau Almaty (Казахстан, Алма-Ата)
END:VEVENT
END:VCALENDAR