BEGIN:VCALENDAR
VERSION:2.0
PRODID:-//TotalExpo.ru v1.0//EN
BEGIN:VEVENT
DTSTAMP:20260401T120000
DTSTART:20260401T070000Z
DTEND:20260430T140000Z
SUMMARY:TrueDigital Day 2026 (Москва, Россия)
DESCRIPTION:Большая конференция про актуальный и будущий digital-маркетинг с неформальной вечерней программой. Участники будут говорить говорить про российский рынок digital-маркетинга: новые каналы, инструменты и аналитику.
LOCATION:площадка уточняется (Россия, Москва)
END:VEVENT
END:VCALENDAR