BEGIN:VCALENDAR
VERSION:2.0
PRODID:-//TotalExpo.ru v1.0//EN
BEGIN:VEVENT
DTSTAMP:20261013T120000
DTSTART:20261013T070000Z
DTEND:20261015T140000Z
SUMMARY:Здравоохранение Сибири 2026 (Новосибирск, Россия)
DESCRIPTION:Специализированная выставка-форум современного оборудования, расходных материалов, фармацевтических препаратов, научных разработок, а также технологий цифровизации и подготовки кадров для системы здравоохранения. Выставка-форум включена в официальный план мероприятий Минпромторга РФ, проходит под патронажем Торгово-промышленной палаты РФ. <br/> В 2025 году во время проведения Биржи деловых контактов состоялось 112 индивидуальных встреч участников выставки с представителями ведущих медицинских учреждений Новосибирска”.
LOCATION:Новосибирск Экспоцентр (Россия, Новосибирск)
END:VEVENT
END:VCALENDAR