BEGIN:VCALENDAR
VERSION:2.0
PRODID:-//TotalExpo.ru v1.0//EN
BEGIN:VEVENT
DTSTAMP:20260401T120000
DTSTART:20260401T070000Z
DTEND:20260401T140000Z
SUMMARY:HR-Аналитика 2026 (Москва, Россия)
DESCRIPTION:Ежегодная конференция о том, как превращать данные в бизнес-решения. В программе конференции будет собрана успешная практика в области HR-аналитики от компаний, которым удалось с помощью анализа данных повлиять на повышение эффективности бизнес-процессов организации.
LOCATION:Сущевский Сафмар (Россия, Москва)
END:VEVENT
END:VCALENDAR