BEGIN:VCALENDAR
VERSION:2.0
PRODID:-//TotalExpo.ru v1.0//EN
BEGIN:VEVENT
DTSTAMP:20251115T120000
DTSTART:20251115T070000Z
DTEND:20251115T140000Z
SUMMARY:PA DAY 2025 (Москва, Россия)
DESCRIPTION:Форум персональных и бизнес-ассистентов. Это мероприятие, где помощники руководителей могут получить новые знания от опытных ассистентов и бизнес-тренеров, а также приятно провести время в кругу единомышленников.<br/>В рамках форума проходит церемония вручения первой в России премии для персональных ассистентов PA-AWARDS. 
LOCATION:Сущевский Сафмар (Россия, Москва)
END:VEVENT
END:VCALENDAR