BEGIN:VCALENDAR
VERSION:2.0
PRODID:-//TotalExpo.ru v1.0//EN
BEGIN:VEVENT
DTSTAMP:20260423T120000
DTSTART:20260423T070000Z
DTEND:20260424T140000Z
SUMMARY:Дорстройэкспо. Дорожный сезон 2026 (Челябинск, Россия)
DESCRIPTION:Цель выставки - отображение и стимулирование современного развития дорожно-транспортной инфраструктуры, демонстрация новых технологий и техники строительно-дорожных работ, специального оборудования, установление деловых контактов.
LOCATION:Ледовая Арена «Трактор» (Россия, Челябинск)
END:VEVENT
END:VCALENDAR