BEGIN:VCALENDAR
VERSION:2.0
PRODID:-//TotalExpo.ru v1.0//EN
BEGIN:VEVENT
DTSTAMP:20261124T120000
DTSTART:20261124T070000Z
DTEND:20261126T140000Z
SUMMARY:PulpFor 2026 (Санкт-Петербург, Россия)
DESCRIPTION:Международная выставка оборудования и технологий для целлюлозно-бумажной, лесоперерабатывающей, упаковочной промышленности и отрасли санитарно-гигиенических видов бумаг. Это важное место встречи руководителей и специалистов предприятий с производителями и поставщиками оборудования и услуг для решения задач предприятий ЦБП.
LOCATION:КВЦ Экспофорум (Россия, Санкт-Петербург)
END:VEVENT
END:VCALENDAR