BEGIN:VCALENDAR
VERSION:2.0
PRODID:-//TotalExpo.ru v1.0//EN
BEGIN:VEVENT
DTSTAMP:20260826T120000
DTSTART:20260826T070000Z
DTEND:20260829T140000Z
SUMMARY:F Istanbul 2026 (Стамбул, Турция)
DESCRIPTION:Выставка продуктов питания, напитков, переработки и упаковки. Проходит с участием всех заинтересованных сторон пищевой промышленности, включая переработанные продукты питания, напитки, кондитерские изделия, пищевые добавки, пищевую промышленность и упаковку. 
LOCATION:Istanbul Expo Center (IFM) (Турция, Стамбул)
END:VEVENT
END:VCALENDAR