BEGIN:VCALENDAR
VERSION:2.0
PRODID:-//TotalExpo.ru v1.0//EN
BEGIN:VEVENT
DTSTAMP:20260610T120000
DTSTART:20260610T070000Z
DTEND:20260613T140000Z
SUMMARY:WIN EURASIA 2026 (Стамбул, Турция)
DESCRIPTION:Крупная промышленная выставка, охватывающая самые разные сферы отрасли, включая: обработку листового металла, технологии формовки, автоматизацию, электронное оборудование, гидравлику и пневматику, внутреннюю логистику и многое другое. Экспозицию сопровождает деловая программа.
LOCATION:Istanbul Expo Center (IFM) (Турция, Стамбул)
END:VEVENT
END:VCALENDAR