BEGIN:VCALENDAR
VERSION:2.0
PRODID:-//TotalExpo.ru v1.0//EN
BEGIN:VEVENT
DTSTAMP:20260630T120000
DTSTART:20260630T070000Z
DTEND:20260703T140000Z
SUMMARY:Инфофорум-Сочи 2026 (Сочи, Россия)
DESCRIPTION:Масштабный всероссийский форум, в рамках которого проходит обсуждение широкого спектра технологических и гуманитарных проблем обеспечения информационной безопасности, вырабатываются предложения по формированию государственной политики в этой сфере, анализируется практика правоприменения, демонстрируются новые российские и зарубежные решения.
LOCATION:Sea Galaxy Hotel Congress & Spa (Россия, Сочи)
END:VEVENT
END:VCALENDAR