BEGIN:VCALENDAR
VERSION:2.0
PRODID:-//TotalExpo.ru v1.0//EN
BEGIN:VEVENT
DTSTAMP:20260425T120000
DTSTART:20260425T070000Z
DTEND:20260426T140000Z
SUMMARY:Colisium StPetersburg 2026 (Санкт-Петербург, Россия)
DESCRIPTION:Форум проходит с 2007 года и является местом общения и обмена опытом всех участников музыкального рынка: организаторов концертов и фестивалей, артистов и их менеджеров, концертных площадок, билетных операторов, специалистов по продвижению мероприятий, лейблов и продюсерских центров, компаний по безопасности и техническому обеспечению мероприятий, страховых агентств, юристов и специалистов по авторскому праву, компаний, занимающихся фото- и видеопродакшеном, звукозаписывающих студий и репетиционных точек, музыкальных брендов, имиджмейкеров артистов и других профессионалов.
LOCATION:Отель Санкт-Петербург (Россия, Санкт-Петербург)
END:VEVENT
END:VCALENDAR