BEGIN:VCALENDAR
VERSION:2.0
PRODID:-//TotalExpo.ru v1.0//EN
BEGIN:VEVENT
DTSTAMP:20261125T120000
DTSTART:20261125T070000Z
DTEND:20261125T140000Z
SUMMARY:ЭДО 2026 (Москва, Россия)
DESCRIPTION:Представители органов власти и эксперты ведущих компаний-операторов электронного документооборота обсудят вопросы развития систем ЭДО в России, трансграничного взаимодействия, цифровизации регионов и повышения вовлеченности малого и среднего предпринимательства в ЭДО.
LOCATION:Цифровое деловое пространство (ЦДП) (Россия, Москва)
END:VEVENT
END:VCALENDAR