BEGIN:VCALENDAR
VERSION:2.0
PRODID:-//TotalExpo.ru v1.0//EN
BEGIN:VEVENT
DTSTAMP:20260514T120000
DTSTART:20260514T070000Z
DTEND:20260517T140000Z
SUMMARY:Блошиный рынок 2026 (Москва, Россия)
DESCRIPTION:Предметы интерьера, винтажная одежда и аксессуары, фарфор, серебро и бронза, ювелирные украшения, бижутерия, игрушки, картины, книги и открытки — лишь некоторые богатства блошиного рынка, а сколько интересных и приятных находок можно сделать в процессе поиска... Чудеса от старины и до наших дней, на любой вкус и кошелек.
LOCATION:Тишинка, ТВК  (Россия, Москва)
END:VEVENT
END:VCALENDAR